BEGIN:VCALENDAR
VERSION:2.0
PRODID:-//St. Martin&#039;s in-the-Field - ECPv6.15.20//NONSGML v1.0//EN
CALSCALE:GREGORIAN
METHOD:PUBLISH
X-ORIGINAL-URL:https://stmartinsinthefield.com
X-WR-CALDESC:Events for St. Martin&#039;s in-the-Field
REFRESH-INTERVAL;VALUE=DURATION:PT1H
X-Robots-Tag:noindex
X-PUBLISHED-TTL:PT1H
BEGIN:VTIMEZONE
TZID:America/New_York
BEGIN:DAYLIGHT
TZOFFSETFROM:-0500
TZOFFSETTO:-0400
TZNAME:EDT
DTSTART:20250309T070000
END:DAYLIGHT
BEGIN:STANDARD
TZOFFSETFROM:-0400
TZOFFSETTO:-0500
TZNAME:EST
DTSTART:20251102T060000
END:STANDARD
BEGIN:DAYLIGHT
TZOFFSETFROM:-0500
TZOFFSETTO:-0400
TZNAME:EDT
DTSTART:20260308T070000
END:DAYLIGHT
BEGIN:STANDARD
TZOFFSETFROM:-0400
TZOFFSETTO:-0500
TZNAME:EST
DTSTART:20261101T060000
END:STANDARD
BEGIN:DAYLIGHT
TZOFFSETFROM:-0500
TZOFFSETTO:-0400
TZNAME:EDT
DTSTART:20270314T070000
END:DAYLIGHT
BEGIN:STANDARD
TZOFFSETFROM:-0400
TZOFFSETTO:-0500
TZNAME:EST
DTSTART:20271107T060000
END:STANDARD
END:VTIMEZONE
BEGIN:VEVENT
DTSTART;VALUE=DATE:20260206
DTEND;VALUE=DATE:20260607
DTSTAMP:20260422T104037
CREATED:20260306T181329Z
LAST-MODIFIED:20260327T152736Z
UID:5689-1770336000-1780790399@stmartinsinthefield.com
SUMMARY:Pizza & Bingo Night
DESCRIPTION:Pizza & Bingo Night at The Light House Shelter \nFirst Friday of the Month – 4:30-6:30 p.m. \nSee our Sign up for exact dates. \nThis is a great opportunity to be with our neighbors by sharing a good meal\, and playing a few rounds of Bingo with them.  St. Martin’s sponsors a pizza night at Lighthouse Homeless Prevention Center on the first Friday of every month. Children must be at least 11 to volunteer.   \nTo volunteer please sign up here or contact Eileen Hartzell
URL:https://stmartinsinthefield.com/event/pizza-bingo-night/
LOCATION:MD
ATTACH;FMTTYPE=image/jpeg:https://stmartinsinthefield.com/wp-content/uploads/2022/08/qtq80-LLRE9g.jpeg
END:VEVENT
BEGIN:VEVENT
DTSTART;VALUE=DATE:20260306
DTEND;VALUE=DATE:20260629
DTSTAMP:20260422T104037
CREATED:20260306T180506Z
LAST-MODIFIED:20260410T011921Z
UID:5685-1772755200-1782691199@stmartinsinthefield.com
SUMMARY:Book & Bible Studies
DESCRIPTION:Bible Challenge Group – Study of Genesis – Tuesdays\, 7:00 p.m. (St. Martin’s House) \nJoin us as we explore our origin story through a study of Genesis. We will be using the book “Genesis (LifeChange)\,” which can be purchased from Amazon or your favorite book seller. Study begins on Tuesday\, April 21. We welcome newcomers any time! Contact Cindy Neseth. \nStudy on Book of Job – Tuesdays\, 7:00 p.m. (Zoom) \nAll parishioners are invited for the EfM version of theological studies on Book of Job to be followed by “JB”\, the Pulitzer Prize play by Archibald MacLeisch. Join us Tuesdays from 7:00-8:30 p.m. For details and Zoom link\, contact Charlie Fitzgerald. \nMidday Bible study – Thursdays\,  12:00 noon (St. Martin’s House) \n Join us for this weekly Bible study and connect with God’s word. Meetings are held in the conference room of St. Martins house. Bring a Bible. Contact Julie Reiter. \nShepherd Group  – Thursdays\, 4:00 p.m. (via Zoom) \n Join us for a zoom group discussion of the readings for the upcoming Sunday. All adults welcome. For zoom link and details contact Susan Griesmyer.
URL:https://stmartinsinthefield.com/event/book-bible-study/
LOCATION:MD
ATTACH;FMTTYPE=image/jpeg:https://stmartinsinthefield.com/wp-content/uploads/2023/05/Bible-2.jpg
END:VEVENT
BEGIN:VEVENT
DTSTART;VALUE=DATE:20260308
DTEND;VALUE=DATE:20260629
DTSTAMP:20260422T104037
CREATED:20260306T180237Z
LAST-MODIFIED:20260306T180321Z
UID:5683-1772928000-1782691199@stmartinsinthefield.com
SUMMARY:Children’s Choir
DESCRIPTION:We are thrilled to relaunch the Children’s Choir at St. Martin’s-in-the-Field! Now open to children in 1st through 7th grade\, early engagement in music provides them with a strong foundation for lifelong musical growth and helps deepen their connection to worship. The Choir offers a fun and supportive environment where children can develop their musical skills\, build friendships and teamwork\, and participate meaningfully in church services.\n\n\n\nThrough rehearsals and performances\, children will:\n\n\n\n\nDevelop musical skills\, including singing\, rhythm\, sight-reading\, and musical expression\n\n\nParticipate in worship by singing anthems and hymns\n\n\nBuild teamwork\, leadership\, and confidence through group performance\n\n\nWe will meet every Sunday after the 10 a.m. service until noon.\n\nTo join\, please sign up here or simply join us on Sunday!\n\n\nFor details for questions contact Dr. HyeSung Hwang\, Director of Music Ministries.\n\nWe would be delighted to have your children experience this enriching musical opportunity and share in the spiritual life of our church through music.
URL:https://stmartinsinthefield.com/event/childrens-choir-3/
LOCATION:MD
ATTACH;FMTTYPE=image/jpeg:https://stmartinsinthefield.com/wp-content/uploads/2025/07/Choir-and-SMES-chorus.jpg
END:VEVENT
BEGIN:VEVENT
DTSTART;TZID=America/New_York:20260308T090000
DTEND;TZID=America/New_York:20260517T100000
DTSTAMP:20260422T104037
CREATED:20260306T180103Z
LAST-MODIFIED:20260327T152304Z
UID:5681-1772960400-1779012000@stmartinsinthefield.com
SUMMARY:Adult Formation
DESCRIPTION:Sundays\, 9:00 a.m. (Parish Hall)\n\nAdult Formation is a time of both faith and fellowship at St. Martin’s.  Our engaging and conversational classes are taught clergy and parishioners alike.  Come build community and grow closer to God with us! \nApril 12 – Embracing Evangelism – Rev. Grace – Parish Hall \nApril 19 – Embracing Evangelism – Rev. Grace – Parish Hall \nApril 26 – Guest Spreaker – Bishop Carrie – Parish Hall \nMay 3 – Embracing Evangelism – Rev. Grace – Parish Hall \nMay 10 – Embracing Evangelism – Rev. Grace – Parish Hall \nMay 17 – Embracing Evangelism – Rev. Grace – Parish Hall \nWe can’t wait to grow in our faith with you!\nFor details or questions contact Rev. Lauren.
URL:https://stmartinsinthefield.com/event/adult-formation-2/
LOCATION:MD
ATTACH;FMTTYPE=image/jpeg:https://stmartinsinthefield.com/wp-content/uploads/2025/09/IMG_8869-formation-crop.jpg
END:VEVENT
BEGIN:VEVENT
DTSTART;TZID=America/New_York:20260308T173000
DTEND;TZID=America/New_York:20260531T190000
DTSTAMP:20260422T104037
CREATED:20260306T180845Z
LAST-MODIFIED:20260306T181048Z
UID:5687-1772991000-1780254000@stmartinsinthefield.com
SUMMARY:Episcopal Youth Community
DESCRIPTION:Open to all youth in grades 6th-12th with completed youth ministry registration form. Friends are always welcome.  \n\nEYC is a welcoming space for middle and high school students to build friendships\, explore faith\, and grow together through conversation\, prayer\, service\, and fun. EYC meets twice a month at 5:30 p.m. in Parish Hall. \n\nMarch 8: Team building fun and games with Rev. Grace.\nMarch 22: Serve our church’s Winter Shelter ministry.\n\n\nIf you would like to support our youth please consider providing a meal. Sign up here.\n\n\nFor details or questions contact Sam Burdette or Amy Miller.
URL:https://stmartinsinthefield.com/event/episcopal-youth-community/
LOCATION:MD
ATTACH;FMTTYPE=image/jpeg:https://stmartinsinthefield.com/wp-content/uploads/2024/08/IMG_3428-scaled.jpeg
END:VEVENT
BEGIN:VEVENT
DTSTART;TZID=America/New_York:20260426T113000
DTEND;TZID=America/New_York:20260426T130000
DTSTAMP:20260422T104037
CREATED:20260327T175055Z
LAST-MODIFIED:20260409T202140Z
UID:5734-1777203000-1777208400@stmartinsinthefield.com
SUMMARY:Chili Cook Off
DESCRIPTION:“St. Martin’s Great Episcopal Chili Cook Off” With Special Guest Judge: Bishop Carrie!\nSunday\, April 26\, 11:30 a.m. (Parish Hall) \nDo you have a mean (or mercifully mild) chili recipe? Now is your moment to shine. Join us for St. Martin’s The Great Episcopal Chili Cook-Off\, a beloved parish tradition with a delightful Episcopal twist this year. We are excited to welcome Bishop Carrie\, who will be joining us as our official judge—so bring your very best! Sign up to enter your chili or simply come ready to taste\, vote\, and enjoy. (*Note you do not need to be Episcopalian to participate – All Are Welcome!) \nThis fundraiser supports the J2A Youth Pilgrimage. \n$5 per person | $20 per family | $1 per vote \nPrizes will be awarded across multiple categories for the most devout Episcopal chili. Chili categories are: \n>  Pentecost = Fiery / Spicy Chili \n>  St. Francis = Vegetarian / Vegan \n>  All Are Welcome = Everything but the kitchen sink \n>  Holy Ghost = White Chili \n>  Apostolic = Classic / Traditional Chili \n>  Holy Trinity = Best Overall \nSign up your chili today! CLICK HERE.
URL:https://stmartinsinthefield.com/event/chili-cook-off-2/
LOCATION:St. Martin’s-in-the-Field\, 375 Benfield Road\, Severna Park\, MD\, 21146\, United States
ATTACH;FMTTYPE=image/jpeg:https://stmartinsinthefield.com/wp-content/uploads/2025/01/chili_cookoff.jpg
END:VEVENT
BEGIN:VEVENT
DTSTART;VALUE=DATE:20260727
DTEND;VALUE=DATE:20260801
DTSTAMP:20260422T104037
CREATED:20260306T174539Z
LAST-MODIFIED:20260318T181901Z
UID:5668-1785110400-1785542399@stmartinsinthefield.com
SUMMARY:Vacation Bible School
DESCRIPTION:Registration Open for VBS 2026 \nGet ready for an unforgettable week of fun as St. Martin’s-in-the-Field hosts Cokesbury’s “Snowball Mountain Challenge” the week of July 27-31! \nHalf Day (8:30 a.m.-12:30 p.m) and Full Day (8:30 a.m.-3:30 p.m) options available for children grades K-5th. \nClick here to register today! \nOur VBS is powered by the gifts of volunteers. We’d love to have you join the team. Contact Tabitha Carman.
URL:https://stmartinsinthefield.com/event/vacation-bible-school/
LOCATION:MD
ATTACH;FMTTYPE=image/jpeg:https://stmartinsinthefield.com/wp-content/uploads/2026/03/VBS-Snowball-Challenge-1.jpg
END:VEVENT
END:VCALENDAR